BEGIN:VCALENDAR
VERSION:2.0
PRODID:-//Intand Corporation//Tandem//EN
METHOD:PUBLISH
BEGIN:VEVENT
DTSTAMP:20260424T144125Z
DTSTART:20230510T120000Z
DTEND:20230510T193000Z
TRANSP:TRANSPARENT
PRIORITY:0
SUMMARY:DMS- Field Day
LOCATION:DMS Learnscape\, DMS Bus Parking Lot\, DMS Football Field\, DMS B
 aseball/Softball\, DMS Gym\, DMS Track\, DMS North Greenspace
DESCRIPTION:Groups:\nDMS Staff\n\nSchools:\nDiscovery Middle School\n\nLoc
 ations:\nDMS Learnscape\nDMS Bus Parking Lot\nDMS Football Field\nDMS Base
 ball/Softball\nDMS Gym\nDMS Track\nDMS North Greenspace\n\n
URL;VALUE=URI:http://liberty53.tandem.co/index.php?type=view&action=event&
 id=472816
CREATED:20230503T123706Z
LAST-MODIFIED:20230503T123706Z
UID:event-472816-liberty53@intand.com
END:VEVENT
END:VCALENDAR
