BEGIN:VCALENDAR
VERSION:2.0
PRODID:-//Intand Corporation//Tandem//EN
METHOD:PUBLISH
BEGIN:VEVENT
DTSTAMP:20260424T043854Z
DTSTART:20240124T210000Z
DTEND:20240125T003000Z
TRANSP:TRANSPARENT
PRIORITY:0
SUMMARY:LMS Girls Basketball Tournament
LOCATION:LMS Gym\, LMS Commons
DESCRIPTION:End of the season tournament.  \n\nGroups:\nLMS Girls Basketba
 ll\n\nSchools:\nLiberty Middle School\n\nLocations:\nLMS Gym\nLMS Commons\
 n\n
URL;VALUE=URI:http://liberty53.tandem.co/index.php?type=view&action=event&
 id=472715
CREATED:20230502T151120Z
LAST-MODIFIED:20230502T151904Z
UID:event_request-472715-liberty53@intand.com
END:VEVENT
END:VCALENDAR
