BEGIN:VCALENDAR
VERSION:2.0
PRODID:-//Intand Corporation//Tandem//EN
METHOD:PUBLISH
BEGIN:VEVENT
DTSTAMP:20260424T024111Z
DTSTART:20231211T210000Z
DTEND:20231212T003000Z
TRANSP:TRANSPARENT
PRIORITY:0
SUMMARY:8th Grade Basketball Tournament
LOCATION:LMS Gym\, LMS Commons
DESCRIPTION:Groups:\nLMS Boys Basketball\n\nSchools:\nLiberty Middle Schoo
 l\n\nLocations:\nLMS Gym\nLMS Commons\n\n
URL;VALUE=URI:http://liberty53.tandem.co/index.php?type=view&action=event&
 id=472710
CREATED:20230502T150921Z
LAST-MODIFIED:20230502T151217Z
UID:event_request-472710-liberty53@intand.com
END:VEVENT
END:VCALENDAR
