BEGIN:VCALENDAR
VERSION:2.0
PRODID:-//Intand Corporation//Tandem//EN
METHOD:PUBLISH
BEGIN:VEVENT
DTSTAMP:20260424T073734Z
DTSTART:20230523T000000Z
DTEND:20230523T013000Z
TRANSP:TRANSPARENT
PRIORITY:0
SUMMARY:LN Wickham mtg
LOCATION:LNHS Eagle Pointe
DESCRIPTION:Groups:\nLNHS Staff\n\nSchools:\nLiberty North High School\n\n
 Location:\nLNHS Eagle Pointe\n\n
URL;VALUE=URI:http://liberty53.tandem.co/index.php?type=view&action=event&
 id=472671
CREATED:20230502T145917Z
LAST-MODIFIED:20230510T172741Z
UID:event-472671-liberty53@intand.com
END:VEVENT
END:VCALENDAR
