BEGIN:VCALENDAR
VERSION:2.0
PRODID:-//Intand Corporation//Tandem//EN
METHOD:PUBLISH
BEGIN:VEVENT
DTSTAMP:20260424T061426Z
DTSTART:20230501T230000Z
DTEND:20230502T003000Z
TRANSP:TRANSPARENT
PRIORITY:0
SUMMARY:HMS - Northland Christian Trailblazers
LOCATION:HMS Track
DESCRIPTION:Groups:\nNorthland Christian (Brown)\n\nSchools:\nHeritage Mid
 dle School\n\nLocation:\nHMS Track\n\n
URL;VALUE=URI:http://liberty53.tandem.co/index.php?type=view&action=event&
 id=472586
CREATED:20230502T143316Z
LAST-MODIFIED:20230502T143316Z
UID:event-472586-liberty53@intand.com
END:VEVENT
END:VCALENDAR
