BEGIN:VCALENDAR
VERSION:2.0
PRODID:-//Intand Corporation//Tandem//EN
METHOD:PUBLISH
BEGIN:VEVENT
DTSTAMP:20260424T024129Z
DTSTART:20230516T233000Z
DTEND:20230517T010000Z
TRANSP:TRANSPARENT
PRIORITY:0
SUMMARY:Track Celebration 2023
LOCATION:LHS Cafeteria\, LHS Room 800 PAC/Theater
DESCRIPTION:Groups:\nLHS Boys Track & Field\nLHS Girls Track & Field\n\nSc
 hools:\nLiberty High School\n\nLocations:\nLHS Cafeteria\nLHS Room 800 PAC
 /Theater\n\n
URL;VALUE=URI:http://liberty53.tandem.co/index.php?type=view&action=event&
 id=472512
CREATED:20230501T141754Z
LAST-MODIFIED:20230508T134912Z
UID:event_request-472512-liberty53@intand.com
END:VEVENT
END:VCALENDAR
