BEGIN:VCALENDAR
VERSION:2.0
PRODID:-//Intand Corporation//Tandem//EN
METHOD:PUBLISH
BEGIN:VEVENT
DTSTAMP:20260424T055603Z
DTSTART:20231017T130000Z
DTEND:20231017T160000Z
TRANSP:TRANSPARENT
PRIORITY:0
SUMMARY:DAC 410/409- Principals Meeting
LOCATION:DAC 4 - 409\, DAC 4 - 410
DESCRIPTION:Groups:\nDAC Innovation & Learning\n\nSchools:\nDistrict Admin
 istration Center\n\nLocations:\nDAC 4 - 409\nDAC 4 - 410\n\n
URL;VALUE=URI:http://liberty53.tandem.co/index.php?type=view&action=event&
 id=472504
CREATED:20230501T133221Z
LAST-MODIFIED:20230501T133221Z
UID:event-472504-liberty53@intand.com
END:VEVENT
END:VCALENDAR
