BEGIN:VCALENDAR
VERSION:2.0
PRODID:-//Intand Corporation//Tandem//EN
METHOD:PUBLISH
BEGIN:VEVENT
DTSTAMP:20260424T054154Z
DTSTART:20231014T160000Z
DTEND:20231014T230000Z
TRANSP:TRANSPARENT
PRIORITY:0
SUMMARY: William Jewell Football Game vs. Quincy University
LOCATION:LNHS Fieldhouse (GH HVAC)
DESCRIPTION:Groups:\nWilliam Jewell Football\n\nSchools:\nLiberty North Hi
 gh School\n\nLocation:\nLNHS Fieldhouse (GH HVAC)\n\n
URL;VALUE=URI:http://liberty53.tandem.co/index.php?type=view&action=event&
 id=472499
CREATED:20230501T132009Z
LAST-MODIFIED:20230501T132009Z
UID:event-472499-liberty53@intand.com
END:VEVENT
END:VCALENDAR
