BEGIN:VCALENDAR
VERSION:2.0
PRODID:-//Intand Corporation//Tandem//EN
METHOD:PUBLISH
BEGIN:VEVENT
DTSTAMP:20260424T032910Z
DTSTART:20230504T233000Z
DTEND:20230505T013000Z
TRANSP:TRANSPARENT
PRIORITY:0
SUMMARY:Color Guard New Fall Team Meeting
LOCATION:LNHS Room 616 Band
DESCRIPTION:Groups:\nLNHS Color Guard \n\nSchools:\nLiberty North High Sch
 ool\n\nLocation:\nLNHS Room 616 Band\n\n
URL;VALUE=URI:http://liberty53.tandem.co/index.php?type=view&action=event&
 id=472437
CREATED:20230427T023554Z
LAST-MODIFIED:20230427T203435Z
UID:event_request-472437-liberty53@intand.com
END:VEVENT
END:VCALENDAR
