BEGIN:VCALENDAR
VERSION:2.0
PRODID:-//Intand Corporation//Tandem//EN
METHOD:PUBLISH
BEGIN:VEVENT
DTSTAMP:20260424T073656Z
DTSTART:20230426T213000Z
DTEND:20230426T223000Z
TRANSP:TRANSPARENT
PRIORITY:0
SUMMARY:FC - Grounds Meeting
LOCATION:FC Conference Room
DESCRIPTION:Groups:\nFacilities Internal Use\n\nSchools:\nDistrict Adminis
 tration Center\n\nLocation:\nFC Conference Room\n\n
URL;VALUE=URI:http://liberty53.tandem.co/index.php?type=view&action=event&
 id=472435
CREATED:20230426T194838Z
LAST-MODIFIED:20230426T194838Z
UID:event-472435-liberty53@intand.com
END:VEVENT
END:VCALENDAR
