BEGIN:VCALENDAR
VERSION:2.0
PRODID:-//Intand Corporation//Tandem//EN
METHOD:PUBLISH
BEGIN:VEVENT
DTSTAMP:20260424T055230Z
DTSTART:20230706T120000Z
DTEND:20230706T220000Z
TRANSP:TRANSPARENT
PRIORITY:0
SUMMARY:KZ Camp Field Day
LOCATION:DMS Football Field\, DMS Track
DESCRIPTION:Groups:\nKid's Zone Program\n\nSchools:\nDistrict Administrati
 on Center\nDiscovery Middle School\n\nLocations:\nDMS Football Field\nDMS 
 Track\n\n
URL;VALUE=URI:http://liberty53.tandem.co/index.php?type=view&action=event&
 id=472433
CREATED:20230426T174401Z
LAST-MODIFIED:20230426T194330Z
UID:event_request-472433-liberty53@intand.com
END:VEVENT
END:VCALENDAR
