BEGIN:VCALENDAR
VERSION:2.0
PRODID:-//Intand Corporation//Tandem//EN
METHOD:PUBLISH
BEGIN:VEVENT
DTSTAMP:20260424T033359Z
DTSTART:20230506T120000Z
DTEND:20230507T040000Z
TRANSP:TRANSPARENT
PRIORITY:0
SUMMARY:LHS Yearbook 
LOCATION:LHS LMC Lab 301
DESCRIPTION:Groups:\nLHS Yearbook Staff\n\nSchools:\nLiberty High School\n
 \nLocation:\nLHS LMC Lab 301\n\nhvac not necessary on the weekend as no st
 aff will be working\, just reserving the space as storage.\n\n \n\n
URL;VALUE=URI:http://liberty53.tandem.co/index.php?type=view&action=event&
 id=472032
CREATED:20230420T202508Z
LAST-MODIFIED:20230420T202508Z
UID:event-472032-liberty53@intand.com
END:VEVENT
END:VCALENDAR
