BEGIN:VCALENDAR
VERSION:2.0
PRODID:-//Intand Corporation//Tandem//EN
METHOD:PUBLISH
BEGIN:VEVENT
DTSTAMP:20260424T063419Z
DTSTART:20231117T220000Z
DTEND:20231118T040000Z
TRANSP:TRANSPARENT
PRIORITY:0
SUMMARY:Blue/White Scrimmage
LOCATION:LHS Cokely Gym\, LHS Fieldhouse Gym
DESCRIPTION:Groups:\nLHS Athletics\n\nSchools:\nLiberty High School\n\nLoc
 ations:\nLHS Cokely Gym\nLHS Fieldhouse Gym\n\n
URL;VALUE=URI:http://liberty53.tandem.co/index.php?type=view&action=event&
 id=472007
CREATED:20230420T175714Z
LAST-MODIFIED:20230420T200022Z
UID:event_request-472007-liberty53@intand.com
END:VEVENT
END:VCALENDAR
