BEGIN:VCALENDAR
VERSION:2.0
PRODID:-//Intand Corporation//Tandem//EN
METHOD:PUBLISH
BEGIN:VEVENT
DTSTAMP:20260424T024046Z
DTSTART:20230503T193000Z
DTEND:20230503T213000Z
TRANSP:TRANSPARENT
PRIORITY:0
SUMMARY:Creative Arts Academy Meeting
LOCATION:LHS Room 808 Band\, LHS Room 809 Band
DESCRIPTION:Groups:\nFine Arts\n\nSchools:\nLiberty High School\n\nLocatio
 ns:\nLHS Room 808 Band\nLHS Room 809 Band\n\nContacts:\nMatthew Allison\n\
 n
URL;VALUE=URI:http://liberty53.tandem.co/index.php?type=view&action=event&
 id=471858
CREATED:20230414T143244Z
LAST-MODIFIED:20230414T143244Z
UID:event-471858-liberty53@intand.com
END:VEVENT
END:VCALENDAR
