BEGIN:VCALENDAR
VERSION:2.0
PRODID:-//Intand Corporation//Tandem//EN
METHOD:PUBLISH
BEGIN:VEVENT
DTSTAMP:20260424T024224Z
DTSTART:20240514T230000Z
DTEND:20240515T000000Z
TRANSP:TRANSPARENT
PRIORITY:0
SUMMARY:Speech and Debate Banquet
LOCATION:LHS Room 800 PAC/Theater\, LHS Room 812 Drama
DESCRIPTION:Setup: 3:30 pm\nBreakdown: 7:30 pm\n\nGroups:\nLHS Speech / De
 bate\n\nSchools:\nLiberty High School\n\nLocations:\nLHS Room 800 PAC/Thea
 ter\nLHS Room 812 Drama\n\n
URL;VALUE=URI:http://liberty53.tandem.co/index.php?type=view&action=event&
 id=471856
CREATED:20230413T220951Z
LAST-MODIFIED:20230417T202614Z
UID:event_request-471856-liberty53@intand.com
END:VEVENT
END:VCALENDAR
