BEGIN:VCALENDAR
VERSION:2.0
PRODID:-//Intand Corporation//Tandem//EN
METHOD:PUBLISH
BEGIN:VEVENT
DTSTAMP:20260424T023947Z
DTSTART:20231107T210000Z
DTEND:20231107T230000Z
TRANSP:TRANSPARENT
PRIORITY:0
SUMMARY:LHS JV Sapphire Practice
LOCATION:LHS Commons
DESCRIPTION:Groups:\nLHS Sapphires JV\n\nSchools:\nLiberty High School\n\n
 Location:\nLHS Commons\n\n
URL;VALUE=URI:http://liberty53.tandem.co/index.php?type=view&action=event&
 id=471724
CREATED:20230412T131742Z
LAST-MODIFIED:20230412T154820Z
UID:event_request-471724-liberty53@intand.com
END:VEVENT
END:VCALENDAR
