BEGIN:VCALENDAR
VERSION:2.0
PRODID:-//Intand Corporation//Tandem//EN
METHOD:PUBLISH
BEGIN:VEVENT
DTSTAMP:20260424T050256Z
DTSTART:20230518T130000Z
DTEND:20230518T173000Z
TRANSP:TRANSPARENT
PRIORITY:0
SUMMARY:NNbD 9 Final Seminar 
LOCATION:LNHS Track
DESCRIPTION:NNbd 9 Students will be conducting their final outside on the 
 football field. \n\nGroups:\nLNHS Grade 9\n\nSchools:\nLiberty North High 
 School\n\nLocation:\nLNHS Track\n\n
URL;VALUE=URI:http://liberty53.tandem.co/index.php?type=view&action=event&
 id=471659
CREATED:20230411T161002Z
LAST-MODIFIED:20230413T153746Z
UID:event_request-471659-liberty53@intand.com
END:VEVENT
END:VCALENDAR
