BEGIN:VCALENDAR
VERSION:2.0
PRODID:-//Intand Corporation//Tandem//EN
METHOD:PUBLISH
BEGIN:VEVENT
DTSTAMP:20260424T061632Z
DTSTART:20230410T233000Z
DTEND:20230411T010000Z
TRANSP:TRANSPARENT
PRIORITY:0
SUMMARY:LNHS C-Soccer Game vs. Blue Springs
LOCATION:LNHS Activity Complex
DESCRIPTION:Groups:\nLNHS Soccer - Girls C-Navy\n\nSchools:\nLiberty North
  High School\n\nLocation:\nLNHS Activity Complex\n\n
URL;VALUE=URI:http://liberty53.tandem.co/index.php?type=view&action=event&
 id=471573
CREATED:20230410T183322Z
LAST-MODIFIED:20230410T183322Z
UID:event-471573-liberty53@intand.com
END:VEVENT
END:VCALENDAR
