BEGIN:VCALENDAR
VERSION:2.0
PRODID:-//Intand Corporation//Tandem//EN
METHOD:PUBLISH
BEGIN:VEVENT
DTSTAMP:20260424T041128Z
DTSTART:20230410T211500Z
DTEND:20230410T231500Z
TRANSP:TRANSPARENT
PRIORITY:0
SUMMARY:LHS Rugby Practice
LOCATION:LHS Aerobics Room\, LHS Cardio Room
DESCRIPTION:Groups:\nLHS Rugby\n\nSchools:\nLiberty High School\n\nLocatio
 ns:\nLHS Aerobics Room\nLHS Cardio Room\n\n
URL;VALUE=URI:http://liberty53.tandem.co/index.php?type=view&action=event&
 id=471570
CREATED:20230410T180214Z
LAST-MODIFIED:20230410T185404Z
UID:event_request-471570-liberty53@intand.com
END:VEVENT
END:VCALENDAR
