BEGIN:VCALENDAR
VERSION:2.0
PRODID:-//Intand Corporation//Tandem//EN
METHOD:PUBLISH
BEGIN:VEVENT
DTSTAMP:20260424T055625Z
DTSTART:20230410T130000Z
DTEND:20230410T150000Z
TRANSP:TRANSPARENT
PRIORITY:0
SUMMARY:LN ACT Testing 
LOCATION:LNHS Room 711
DESCRIPTION:Schools:\nLiberty North High School\n\nLocation:\nLNHS Room 71
 1\n\n
URL;VALUE=URI:http://liberty53.tandem.co/index.php?type=view&action=event&
 id=471559
CREATED:20230410T130030Z
LAST-MODIFIED:20230411T144921Z
UID:event_request-471559-liberty53@intand.com
END:VEVENT
END:VCALENDAR
