BEGIN:VCALENDAR
VERSION:2.0
PRODID:-//Intand Corporation//Tandem//EN
METHOD:PUBLISH
BEGIN:VEVENT
DTSTAMP:20260424T041511Z
DTSTART:20230406T150000Z
DTEND:20230406T170000Z
TRANSP:TRANSPARENT
PRIORITY:0
SUMMARY:LN ACT Testing 
LOCATION:LNHS Room 711
DESCRIPTION:Schools:\nLiberty North High School\n\nLocation:\nLNHS Room 71
 1\n\n
URL;VALUE=URI:http://liberty53.tandem.co/index.php?type=view&action=event&
 id=471517
CREATED:20230406T143620Z
LAST-MODIFIED:20230411T144914Z
UID:event_request-471517-liberty53@intand.com
END:VEVENT
END:VCALENDAR
