BEGIN:VCALENDAR
VERSION:2.0
PRODID:-//Intand Corporation//Tandem//EN
METHOD:PUBLISH
BEGIN:VEVENT
DTSTAMP:20260424T162045Z
DTSTART:20230407T170000Z
DTEND:20230407T183000Z
TRANSP:TRANSPARENT
PRIORITY:0
SUMMARY:AP Biology - AP Test Prep Session
LOCATION:LNHS Room 920
DESCRIPTION:Groups:\nLNHS Staff\n\nSchools:\nLiberty North High School\n\n
 Location:\nLNHS Room 920\n\n
URL;VALUE=URI:http://liberty53.tandem.co/index.php?type=view&action=event&
 id=471501
CREATED:20230405T174159Z
LAST-MODIFIED:20230411T144828Z
UID:event_request-471501-liberty53@intand.com
END:VEVENT
END:VCALENDAR
