BEGIN:VCALENDAR
VERSION:2.0
PRODID:-//Intand Corporation//Tandem//EN
METHOD:PUBLISH
BEGIN:VEVENT
DTSTAMP:20260424T023721Z
DTSTART:20230420T230000Z
DTEND:20230421T000000Z
TRANSP:TRANSPARENT
PRIORITY:0
SUMMARY:LC - Kindergarten Round-Up
LOCATION:LCE Cafeteria
DESCRIPTION:Groups:\nLCE Staff\nLCE Parent\nLCE PTA\nLCE Kid's Zone\nLCE A
 dmin\n\nSchools:\nLewis And Clark Elementary\n\nLocation:\nLCE Cafeteria\n
 \n
URL;VALUE=URI:http://liberty53.tandem.co/index.php?type=view&action=event&
 id=471430
CREATED:20230404T200920Z
LAST-MODIFIED:20230404T200920Z
UID:event-471430-liberty53@intand.com
END:VEVENT
END:VCALENDAR
