BEGIN:VCALENDAR
VERSION:2.0
PRODID:-//Intand Corporation//Tandem//EN
METHOD:PUBLISH
BEGIN:VEVENT
DTSTAMP:20260424T043512Z
DTSTART:20230403T203000Z
DTEND:20230403T210000Z
TRANSP:TRANSPARENT
PRIORITY:0
SUMMARY:LHS TRACK MEETING
LOCATION:LHS View Main Floor
DESCRIPTION:Groups:\nLHS Girls Track & Field\nLHS Boys Track & Field\n\nSc
 hools:\nLiberty High School\n\nLocation:\nLHS View Main Floor\n\n
URL;VALUE=URI:http://liberty53.tandem.co/index.php?type=view&action=event&
 id=471387
CREATED:20230403T195121Z
LAST-MODIFIED:20230404T175744Z
UID:event_request-471387-liberty53@intand.com
END:VEVENT
END:VCALENDAR
