BEGIN:VCALENDAR
VERSION:2.0
PRODID:-//Intand Corporation//Tandem//EN
METHOD:PUBLISH
BEGIN:VEVENT
DTSTAMP:20260424T061854Z
DTSTART:20230422T190000Z
DTEND:20230422T220000Z
TRANSP:TRANSPARENT
PRIORITY:0
SUMMARY:WH - PTA Carnival
LOCATION:WHE Parking Lot
DESCRIPTION:Setup: 1:00 pm\nBreakdown: 6:00 pm\n\nGroups:\nWHE PTA\n\nScho
 ols:\nWarren Hills Elementary\n\nLocation:\nWHE Parking Lot\n\n
URL;VALUE=URI:http://liberty53.tandem.co/index.php?type=view&action=event&
 id=471357
CREATED:20230403T152523Z
LAST-MODIFIED:20230403T152600Z
UID:event-471357-liberty53@intand.com
END:VEVENT
END:VCALENDAR
