BEGIN:VCALENDAR
VERSION:2.0
PRODID:-//Intand Corporation//Tandem//EN
METHOD:PUBLISH
BEGIN:VEVENT
DTSTAMP:20260424T144302Z
DTSTART:20230405T233000Z
DTEND:20230406T023000Z
TRANSP:TRANSPARENT
PRIORITY:0
SUMMARY:LHS Rugby Game
LOCATION:LHS Turf Game Field
DESCRIPTION:Groups:\nLHS Rugby\n\nSchools:\nLiberty High School\n\nLocatio
 n:\nLHS Turf Game Field\n\n
URL;VALUE=URI:http://liberty53.tandem.co/index.php?type=view&action=event&
 id=471347
CREATED:20230403T132601Z
LAST-MODIFIED:20230403T134627Z
UID:event_request-471347-liberty53@intand.com
END:VEVENT
END:VCALENDAR
