BEGIN:VCALENDAR
VERSION:2.0
PRODID:-//Intand Corporation//Tandem//EN
METHOD:PUBLISH
BEGIN:VEVENT
DTSTAMP:20260424T024210Z
DTSTART:20230406T173000Z
DTEND:20230406T193000Z
TRANSP:TRANSPARENT
PRIORITY:0
SUMMARY:LN - Site Tour
LOCATION:LNHS Room 711
DESCRIPTION:Requested  by Dr. Camp\n\nGroups:\nLNHS Staff\n\nSchools:\nLib
 erty North High School\n\nLocation:\nLNHS Room 711\n\n
URL;VALUE=URI:http://liberty53.tandem.co/index.php?type=view&action=event&
 id=471258
CREATED:20230330T152828Z
LAST-MODIFIED:20230330T152828Z
UID:event-471258-liberty53@intand.com
END:VEVENT
END:VCALENDAR
