BEGIN:VCALENDAR
VERSION:2.0
PRODID:-//Intand Corporation//Tandem//EN
METHOD:PUBLISH
BEGIN:VEVENT
DTSTAMP:20260424T040814Z
DTSTART:20230403T153000Z
DTEND:20230403T163000Z
TRANSP:TRANSPARENT
PRIORITY:0
SUMMARY:DAC 3 Board Room- Student Services
LOCATION:DAC 3-Board Room
DESCRIPTION:Groups:\nDAC Student Services\n\nSchools:\nDistrict Administra
 tion Center\n\nLocation:\nDAC 3-Board Room\n\n
URL;VALUE=URI:http://liberty53.tandem.co/index.php?type=view&action=event&
 id=471241
CREATED:20230329T163205Z
LAST-MODIFIED:20230329T163311Z
UID:event-471241-liberty53@intand.com
END:VEVENT
END:VCALENDAR
