BEGIN:VCALENDAR
VERSION:2.0
PRODID:-//Intand Corporation//Tandem//EN
METHOD:PUBLISH
BEGIN:VEVENT
DTSTAMP:20260424T073824Z
DTSTART:20230418T160000Z
DTEND:20230418T173000Z
TRANSP:TRANSPARENT
PRIORITY:0
SUMMARY:[Cancelled] DAC 3 Executive Conference Room - Compliance Meeting
LOCATION:DAC 3-Executive Conference Room
DESCRIPTION:Groups:\nSSC Special Services Staff\n\nSchools:\nDistrict Admi
 nistration Center\n\nLocation:\nDAC 3-Executive Conference Room\n\n
URL;VALUE=URI:http://liberty53.tandem.co/index.php?type=view&action=event&
 id=471192
CREATED:20230328T190713Z
LAST-MODIFIED:20230418T151225Z
UID:event_request-471192-liberty53@intand.com
END:VEVENT
END:VCALENDAR
