BEGIN:VCALENDAR
VERSION:2.0
PRODID:-//Intand Corporation//Tandem//EN
METHOD:PUBLISH
BEGIN:VEVENT
DTSTAMP:20260424T040918Z
DTSTART:20230425T130000Z
DTEND:20230425T170000Z
TRANSP:TRANSPARENT
PRIORITY:0
SUMMARY:LN ECA Enrollment
LOCATION:LNHS Eagle's Nest
DESCRIPTION:ECA attendees will be selecting courses at MCC with the help o
 f Enrollment Advisors from MCC.\n\nGroups:\nLNHS Guidance\n\nSchools:\nLib
 erty North High School\n\nLocation:\nLNHS Eagle's Nest\n\n
URL;VALUE=URI:http://liberty53.tandem.co/index.php?type=view&action=event&
 id=471130
CREATED:20230327T162344Z
LAST-MODIFIED:20230331T195046Z
UID:event_request-471130-liberty53@intand.com
END:VEVENT
END:VCALENDAR
