BEGIN:VCALENDAR
VERSION:2.0
PRODID:-//Intand Corporation//Tandem//EN
METHOD:PUBLISH
BEGIN:VEVENT
DTSTAMP:20260424T032912Z
DTSTART:20230726T160000Z
DTEND:20230726T210000Z
TRANSP:TRANSPARENT
PRIORITY:0
SUMMARY:LNHS GG Dance Camp
LOCATION:HMS North Gym\, HMS South Gym
DESCRIPTION:Groups:\nLNHS Athletics\nLNHS Dance Team\n\nSchools:\nLiberty 
 North High School\nHeritage Middle School\n\nLocations:\nHMS North Gym\nHM
 S South Gym\n\n
URL;VALUE=URI:http://liberty53.tandem.co/index.php?type=view&action=event&
 id=471122
CREATED:20230327T154109Z
LAST-MODIFIED:20230327T164719Z
UID:event_request-471122-liberty53@intand.com
END:VEVENT
END:VCALENDAR
