BEGIN:VCALENDAR
VERSION:2.0
PRODID:-//Intand Corporation//Tandem//EN
METHOD:PUBLISH
BEGIN:VEVENT
DTSTAMP:20260424T033507Z
DTSTART:20230826T130000Z
DTEND:20230826T160000Z
TRANSP:TRANSPARENT
PRIORITY:0
SUMMARY:9th Grade Football
LOCATION:LHS Turf Game Field
DESCRIPTION:Scrimmage/Parent Meeting\n\nGroups:\nLHS Football Freshman\n\n
 Schools:\nLiberty High School\n\nLocation:\nLHS Turf Game Field\n\n
URL;VALUE=URI:http://liberty53.tandem.co/index.php?type=view&action=event&
 id=470953
CREATED:20230321T192707Z
LAST-MODIFIED:20230322T152032Z
UID:event_request-470953-liberty53@intand.com
END:VEVENT
END:VCALENDAR
