BEGIN:VCALENDAR
VERSION:2.0
PRODID:-//Intand Corporation//Tandem//EN
METHOD:PUBLISH
BEGIN:VEVENT
DTSTAMP:20260424T034957Z
DTSTART:20230518T134000Z
DTEND:20230518T142000Z
TRANSP:TRANSPARENT
PRIORITY:0
SUMMARY:Staff Celebration/Breakfast for Sarah Birk in Fireplace Room 
LOCATION:Liberty Early Childhood Center
DESCRIPTION:Groups:\nPAT Staff\nECC Staff\n\nSchools:\nEarly Childhood Edu
 cation Center\n\nLocation:\nLiberty Early Childhood Center\n\n
URL;VALUE=URI:http://liberty53.tandem.co/index.php?type=view&action=event&
 id=470951
CREATED:20230321T181138Z
LAST-MODIFIED:20230321T181138Z
UID:event-470951-liberty53@intand.com
END:VEVENT
END:VCALENDAR
