BEGIN:VCALENDAR
VERSION:2.0
PRODID:-//Intand Corporation//Tandem//EN
METHOD:PUBLISH
BEGIN:VEVENT
DTSTAMP:20260424T041006Z
DTSTART:20230515T223000Z
DTEND:20230515T233000Z
TRANSP:TRANSPARENT
PRIORITY:0
SUMMARY:"Celebration" Event for ECC Students going to Kindergarten (by cla
 sses)
LOCATION:Liberty Early Childhood Center
DESCRIPTION:Outdoor celebration on our playground.  \n\nGroups:\nECC Paren
 t\nECC Staff\n\nSchools:\nEarly Childhood Education Center\n\nLocation:\nL
 iberty Early Childhood Center\n\n
URL;VALUE=URI:http://liberty53.tandem.co/index.php?type=view&action=event&
 id=470939
CREATED:20230321T175858Z
LAST-MODIFIED:20230321T180014Z
UID:event-470939-liberty53@intand.com
END:VEVENT
END:VCALENDAR
