BEGIN:VCALENDAR
VERSION:2.0
PRODID:-//Intand Corporation//Tandem//EN
METHOD:PUBLISH
BEGIN:VEVENT
DTSTAMP:20260424T020301Z
DTSTART:20230520T140000Z
DTEND:20230520T220000Z
TRANSP:TRANSPARENT
PRIORITY:0
SUMMARY:SC - KC Chiefs Flag Football (Zepeda)
LOCATION:SCE Football Field
DESCRIPTION:Groups:\nChiefs Flag Football\n\nSchools:\nShoal Creek Element
 ary\n\nLocation:\nSCE Football Field\n\n
URL;VALUE=URI:http://liberty53.tandem.co/index.php?type=view&action=event&
 id=470921
CREATED:20230320T192915Z
LAST-MODIFIED:20230403T194641Z
UID:event-470921-liberty53@intand.com
END:VEVENT
END:VCALENDAR
