BEGIN:VCALENDAR
VERSION:2.0
PRODID:-//Intand Corporation//Tandem//EN
METHOD:PUBLISH
BEGIN:VEVENT
DTSTAMP:20260424T064734Z
DTSTART:20230420T204500Z
DTEND:20230420T220000Z
TRANSP:TRANSPARENT
PRIORITY:0
SUMMARY:LEDC Meeting
LOCATION:LHS View Main Floor\, LHS View Classroom 26\, LHS View Classroom 
 27
DESCRIPTION:Groups:\nDAC College and Career\n\nSchools:\nDistrict Administ
 ration Center\nLiberty High School\n\nLocations:\nLHS View Main Floor\nLHS
  View Classroom 26\nLHS View Classroom 27\n\n
URL;VALUE=URI:http://liberty53.tandem.co/index.php?type=view&action=event&
 id=470455
CREATED:20230316T164536Z
LAST-MODIFIED:20230316T173702Z
UID:event_request-470455-liberty53@intand.com
END:VEVENT
END:VCALENDAR
