BEGIN:VCALENDAR
VERSION:2.0
PRODID:-//Intand Corporation//Tandem//EN
METHOD:PUBLISH
BEGIN:VEVENT
DTSTAMP:20260424T024841Z
DTSTART:20240301T233000Z
DTEND:20240302T053000Z
TRANSP:TRANSPARENT
PRIORITY:0
SUMMARY:KC Metro Large Group Set Up
LOCATION:LNHS Room 610E\, LNHS Performing Arts Theater (GH HVAC)\, LNHS Ro
 om 612 Orchestra\, LNHS Aux Gym - 407 (GH HVAC)\, LNHS Room 607 Black Box 
 Theater\, LNHS Room 608\, LNHS Room 617 VM-Large\, LNHS Room 613 VM-Small\
 , LNHS LMC - 200\, LNHS 
DESCRIPTION:Set up for KC Metro Middle School Large Group Festival\n\nGrou
 ps:\nSVMS Band\nLNHS Band\n\nSchools:\nSouth Valley Middle School\nLiberty
  North High School\n\nLocations:\nLNHS Room 610E\nLNHS Performing Arts The
 ater (GH HVAC)\nLNHS Room 612 Orchestra\nLNHS Aux Gym - 407 (GH HVAC)\nLNH
 S Room 607 Black Box Theater\nLNHS Room 608\nLNHS Room 617 VM-Large\nLNHS 
 Room 613 VM-Small\nLNHS LMC - 200\nLNHS Room 616 Band\nLNHS Room 609\n\n
URL;VALUE=URI:http://liberty53.tandem.co/index.php?type=view&action=event&
 id=470173
CREATED:20230313T141445Z
LAST-MODIFIED:20230328T151638Z
UID:event_request-470173-liberty53@intand.com
END:VEVENT
END:VCALENDAR
