BEGIN:VCALENDAR
VERSION:2.0
PRODID:-//Intand Corporation//Tandem//EN
METHOD:PUBLISH
BEGIN:VEVENT
DTSTAMP:20260424T033451Z
DTSTART:20230425T220000Z
DTEND:20230425T230000Z
TRANSP:TRANSPARENT
PRIORITY:0
SUMMARY:FR Kindergarten Round Up
LOCATION:FE Cafeteria\, FE Computer Lab\, FE Library\, FE Gym\, FE Room 30
DESCRIPTION:Schools:\nFranklin Elementary\n\nLocations:\nFE Cafeteria\nFE 
 Computer Lab\nFE Library\nFE Gym\nFE Room 30\n\n
URL;VALUE=URI:http://liberty53.tandem.co/index.php?type=view&action=event&
 id=470138
CREATED:20230310T192032Z
LAST-MODIFIED:20230310T192032Z
UID:event-470138-liberty53@intand.com
END:VEVENT
END:VCALENDAR
