BEGIN:VCALENDAR
VERSION:2.0
PRODID:-//Intand Corporation//Tandem//EN
METHOD:PUBLISH
BEGIN:VEVENT
DTSTAMP:20260424T015313Z
DTSTART:20230502T170000Z
DTEND:20230502T180000Z
TRANSP:TRANSPARENT
PRIORITY:0
SUMMARY:DAC 3 Exec. Conference Room - Title I.D
LOCATION:DAC 3-Executive Conference Room
DESCRIPTION:Groups:\nDAC Special Programs\n\nSchools:\nDistrict Administra
 tion Center\n\nLocation:\nDAC 3-Executive Conference Room\n\n
URL;VALUE=URI:http://liberty53.tandem.co/index.php?type=view&action=event&
 id=470101
CREATED:20230309T211021Z
LAST-MODIFIED:20230309T211021Z
UID:event-470101-liberty53@intand.com
END:VEVENT
END:VCALENDAR
