BEGIN:VCALENDAR
VERSION:2.0
PRODID:-//Intand Corporation//Tandem//EN
METHOD:PUBLISH
BEGIN:VEVENT
DTSTAMP:20260424T033049Z
DTSTART:20230613T113000Z
DTEND:20230613T130000Z
TRANSP:TRANSPARENT
PRIORITY:0
SUMMARY:Lady Jays Offseason Basketball
LOCATION:LHS Fieldhouse Gym
DESCRIPTION:Groups:\nLHS Girls Basketball\n\nSchools:\nLiberty High School
 \n\nLocation:\nLHS Fieldhouse Gym\n\n
URL;VALUE=URI:http://liberty53.tandem.co/index.php?type=view&action=event&
 id=469872
CREATED:20230308T200922Z
LAST-MODIFIED:20230309T180554Z
UID:event_request-469872-liberty53@intand.com
END:VEVENT
END:VCALENDAR
