BEGIN:VCALENDAR
VERSION:2.0
PRODID:-//Intand Corporation//Tandem//EN
METHOD:PUBLISH
BEGIN:VEVENT
DTSTAMP:20260424T040655Z
DTSTART;VALUE=DATE:20230424
DTEND;VALUE=DATE:20230425
TRANSP:TRANSPARENT
PRIORITY:0
SUMMARY:LN- Harvey- FACS
LOCATION:LNHS Room 711
DESCRIPTION:Groups:\nLNHS Staff\n\nSchools:\nLiberty North High School\n\n
 Location:\nLNHS Room 711\n\n
URL;VALUE=URI:http://liberty53.tandem.co/index.php?type=view&action=event&
 id=469792
CREATED:20230307T172117Z
LAST-MODIFIED:20230307T172117Z
UID:event-469792-liberty53@intand.com
END:VEVENT
END:VCALENDAR
