BEGIN:VCALENDAR
VERSION:2.0
PRODID:-//Intand Corporation//Tandem//EN
METHOD:PUBLISH
BEGIN:VEVENT
DTSTAMP:20260424T023819Z
DTSTART:20230429T120000Z
DTEND:20230429T170000Z
TRANSP:TRANSPARENT
PRIORITY:0
SUMMARY:LHS - Spring Sports Practices
LOCATION:LHS Turf Practice Field\, LHS Turf Game Field\, LHS Track
DESCRIPTION:Groups:\nLHS Athletics\n\nSchools:\nLiberty High School\n\nLoc
 ations:\nLHS Turf Practice Field\nLHS Turf Game Field\nLHS Track\n\n
URL;VALUE=URI:http://liberty53.tandem.co/index.php?type=view&action=event&
 id=469567
CREATED:20230303T200923Z
LAST-MODIFIED:20230303T201016Z
UID:event-469567-liberty53@intand.com
END:VEVENT
END:VCALENDAR
