BEGIN:VCALENDAR
VERSION:2.0
PRODID:-//Intand Corporation//Tandem//EN
METHOD:PUBLISH
BEGIN:VEVENT
DTSTAMP:20260424T024153Z
DTSTART:20231212T010000Z
DTEND:20231212T020000Z
TRANSP:TRANSPARENT
PRIORITY:0
SUMMARY:LNHS Orchestra Winter Concert with HMS/SVMS
LOCATION:LNHS Fieldhouse (GH HVAC)\, LNHS Performing Arts Theater (GH HVAC
 )\, LNHS Room 612 Orchestra\, LNHS Great Hall\, LNHS Room 617 VM-Large\, L
 NHS Room 613 VM-Small\, LNHS Room 616 Band
DESCRIPTION:Setup: 5:00 pm\nBreakdown: 8:30 pm\n\nGroups:\nHMS Orchestra\n
 LNHS Orchestra\nSVMS Orchestra\n\nSchools:\nHeritage Middle School\nLibert
 y North High School\nSouth Valley Middle School\n\nLocations:\nLNHS Fieldh
 ouse (GH HVAC)\nLNHS Performing Arts Theater (GH HVAC)\nLNHS Room 612 Orch
 estra\nLNHS Great Hall\nLNHS Room 617 VM-Large\nLNHS Room 613 VM-Small\nLN
 HS Room 616 Band\n\n
URL;VALUE=URI:http://liberty53.tandem.co/index.php?type=view&action=event&
 id=469471
CREATED:20230302T171802Z
LAST-MODIFIED:20230502T003613Z
UID:event_request-469471-liberty53@intand.com
END:VEVENT
END:VCALENDAR
