BEGIN:VCALENDAR
VERSION:2.0
PRODID:-//Intand Corporation//Tandem//EN
METHOD:PUBLISH
BEGIN:VEVENT
DTSTAMP:20260424T061724Z
DTSTART:20240206T203000Z
DTEND:20240206T220000Z
TRANSP:TRANSPARENT
PRIORITY:0
SUMMARY:DMS Intramurals
LOCATION:DMS Gym
DESCRIPTION:Groups:\nDMS Staff\n\nSchools:\nDiscovery Middle School\n\nLoc
 ation:\nDMS Gym\n\n
URL;VALUE=URI:http://liberty53.tandem.co/index.php?type=view&action=event&
 id=469313
CREATED:20230228T200024Z
LAST-MODIFIED:20230228T200024Z
UID:event-469313-liberty53@intand.com
END:VEVENT
END:VCALENDAR
