BEGIN:VCALENDAR
VERSION:2.0
PRODID:-//Intand Corporation//Tandem//EN
METHOD:PUBLISH
BEGIN:VEVENT
DTSTAMP:20260424T024619Z
DTSTART:20240320T193000Z
DTEND:20240320T220000Z
TRANSP:TRANSPARENT
PRIORITY:0
SUMMARY:8th Track Practice
LOCATION:DMS Gym\, DMS Track
DESCRIPTION:Groups:\nDMS Boys Track\nDMS Girls Track\nDMS Staff\n\nSchools
 :\nDiscovery Middle School\n\nLocations:\nDMS Gym\nDMS Track\n\n
URL;VALUE=URI:http://liberty53.tandem.co/index.php?type=view&action=event&
 id=469270
CREATED:20230228T195808Z
LAST-MODIFIED:20230228T195808Z
UID:event-469270-liberty53@intand.com
END:VEVENT
END:VCALENDAR
