BEGIN:VCALENDAR
VERSION:2.0
PRODID:-//Intand Corporation//Tandem//EN
METHOD:PUBLISH
BEGIN:VEVENT
DTSTAMP:20260424T024138Z
DTSTART:20231115T203000Z
DTEND:20231116T013000Z
TRANSP:TRANSPARENT
PRIORITY:0
SUMMARY:Wrestling Home Meet
LOCATION:DMS Gym
DESCRIPTION:Groups:\nDMS Staff\nDMS Wrestling\n\nSchools:\nDiscovery Middl
 e School\n\nLocation:\nDMS Gym\n\n
URL;VALUE=URI:http://liberty53.tandem.co/index.php?type=view&action=event&
 id=469165
CREATED:20230228T193730Z
LAST-MODIFIED:20230228T193730Z
UID:event-469165-liberty53@intand.com
END:VEVENT
END:VCALENDAR
