BEGIN:VCALENDAR
VERSION:2.0
PRODID:-//Intand Corporation//Tandem//EN
METHOD:PUBLISH
BEGIN:VEVENT
DTSTAMP:20260424T024138Z
DTSTART:20230923T210000Z
DTEND:20230924T000000Z
TRANSP:TRANSPARENT
PRIORITY:0
SUMMARY:SVMS Volleyball @ City Tourn.
LOCATION:LNHS Fieldhouse (GH HVAC)\, LNHS Fieldhouse Mezzanine
DESCRIPTION:Groups:\nSVMS VolleyBall\n\nSchools:\nLiberty North High Schoo
 l\nSouth Valley Middle School\n\nLocations:\nLNHS Fieldhouse (GH HVAC)\nLN
 HS Fieldhouse Mezzanine\n\n
URL;VALUE=URI:http://liberty53.tandem.co/index.php?type=view&action=event&
 id=469079
CREATED:20230228T191715Z
LAST-MODIFIED:20230228T204506Z
UID:event_request-469079-liberty53@intand.com
END:VEVENT
END:VCALENDAR
