BEGIN:VCALENDAR
VERSION:2.0
PRODID:-//Intand Corporation//Tandem//EN
METHOD:PUBLISH
BEGIN:VEVENT
DTSTAMP:20260424T040716Z
DTSTART:20230918T210000Z
DTEND:20230918T233000Z
TRANSP:TRANSPARENT
PRIORITY:0
SUMMARY:SVMS Cross Country Northland Invite
LOCATION:Capitol Federal® Sports Complex of Liberty
DESCRIPTION:Groups:\nSVMS Cross Country\n\nSchools:\nSouth Valley Middle S
 chool\n\nLocation:\nCapitol Federal® Sports Complex of Liberty\n\n
URL;VALUE=URI:http://liberty53.tandem.co/index.php?type=view&action=event&
 id=469036
CREATED:20230228T185933Z
LAST-MODIFIED:20230228T185933Z
UID:event-469036-liberty53@intand.com
END:VEVENT
END:VCALENDAR
