BEGIN:VCALENDAR
VERSION:2.0
PRODID:-//Intand Corporation//Tandem//EN
METHOD:PUBLISH
BEGIN:VEVENT
DTSTAMP:20260424T024521Z
DTSTART:20240118T220000Z
DTEND:20240119T010000Z
TRANSP:TRANSPARENT
PRIORITY:0
SUMMARY:8th Grade Girls Basketball @ Heritage
LOCATION:Heritage Middle School
DESCRIPTION:Groups:\nSVMS Girl Basketball\n\nSchools:\nSouth Valley Middle
  School\n\nLocation:\nHeritage Middle School\n\n
URL;VALUE=URI:http://liberty53.tandem.co/index.php?type=view&action=event&
 id=468905
CREATED:20230227T191014Z
LAST-MODIFIED:20230227T191014Z
UID:event-468905-liberty53@intand.com
END:VEVENT
END:VCALENDAR
