BEGIN:VCALENDAR
VERSION:2.0
PRODID:-//Intand Corporation//Tandem//EN
METHOD:PUBLISH
BEGIN:VEVENT
DTSTAMP:20260424T162301Z
DTSTART:20231207T220000Z
DTEND:20231208T010000Z
TRANSP:TRANSPARENT
PRIORITY:0
SUMMARY:8th Grade Girls Basketball vs. New Mark
LOCATION:SVMS Gym
DESCRIPTION:Groups:\nSVMS Girl Basketball\n\nSchools:\nSouth Valley Middle
  School\n\nLocation:\nSVMS Gym\n\n
URL;VALUE=URI:http://liberty53.tandem.co/index.php?type=view&action=event&
 id=468896
CREATED:20230227T190522Z
LAST-MODIFIED:20230227T190522Z
UID:event-468896-liberty53@intand.com
END:VEVENT
END:VCALENDAR
